BEGIN:VCALENDAR
VERSION:2.0
PRODID:-//Shannondale of Maryville, a Covenant Living Community - ECPv6.15.18//NONSGML v1.0//EN
CALSCALE:GREGORIAN
METHOD:PUBLISH
X-ORIGINAL-URL:https://shannondalemaryville.org
X-WR-CALDESC:Events for Shannondale of Maryville, a Covenant Living Community
REFRESH-INTERVAL;VALUE=DURATION:PT1H
X-Robots-Tag:noindex
X-PUBLISHED-TTL:PT1H
BEGIN:VTIMEZONE
TZID:Asia/Karachi
BEGIN:STANDARD
TZOFFSETFROM:+0500
TZOFFSETTO:+0500
TZNAME:PKT
DTSTART:20220101T000000
END:STANDARD
END:VTIMEZONE
BEGIN:VEVENT
DTSTART;TZID=Asia/Karachi:20230427T140000
DTEND;TZID=Asia/Karachi:20230427T140000
DTSTAMP:20260419T111157
CREATED:20230125T084336Z
LAST-MODIFIED:20230125T084336Z
UID:10000387-1682604000-1682604000@shannondalemaryville.org
SUMMARY:Downsize & Declutter with Gentle Transitions
DESCRIPTION:Let’s face it—downsizing is a daunting task! But\, don’t let it keep you from moving to a more fulfilling lifestyle. Jill Freeman from Gentle Transitions has helped hundreds of clients make their move smooth and stress-free. She’ll be here to help you do the same!
URL:https://shannondalemaryville.org/event/downsize-declutter-with-gentle-transitions/
LOCATION:TN
CATEGORIES:General
ATTACH;FMTTYPE=image/jpeg:https://shannondalemaryville.org/wp-content/uploads/2023/01/CLGV-012-thumbnail_4-27-event.jpg
END:VEVENT
END:VCALENDAR