BEGIN:VCALENDAR
VERSION:2.0
PRODID:-//Shannondale of Maryville, a Covenant Living Community - ECPv6.15.18//NONSGML v1.0//EN
CALSCALE:GREGORIAN
METHOD:PUBLISH
X-WR-CALNAME:Shannondale of Maryville, a Covenant Living Community
X-ORIGINAL-URL:https://shannondalemaryville.org
X-WR-CALDESC:Events for Shannondale of Maryville, a Covenant Living Community
REFRESH-INTERVAL;VALUE=DURATION:PT1H
X-Robots-Tag:noindex
X-PUBLISHED-TTL:PT1H
BEGIN:VTIMEZONE
TZID:Asia/Karachi
BEGIN:STANDARD
TZOFFSETFROM:+0500
TZOFFSETTO:+0500
TZNAME:PKT
DTSTART:20230101T000000
END:STANDARD
END:VTIMEZONE
BEGIN:VEVENT
DTSTART;VALUE=DATE:20241231
DTEND;VALUE=DATE:20260101
DTSTAMP:20260423T124940
CREATED:20250220T142848Z
LAST-MODIFIED:20250220T142848Z
UID:10000431-1735603200-1767225599@shannondalemaryville.org
SUMMARY:Lives Well Lived – Exclusive Film Viewing
DESCRIPTION:Covenant Living invites you to an exclusive screening of Lives Well Lived\, an award-winning documentary by Sky Bergman. This inspiring film celebrates the wit\, wisdom\, and experiences of individuals aged 75 to 100 as they share personal stories of love\, loss\, and resilience. RSVP today\, and we’ll send you a private link to enjoy this heartwarming film from the comfort of your home.
URL:https://shannondalemaryville.org/event/lives-well-lived/
CATEGORIES:Assisted Living Events
ATTACH;FMTTYPE=image/png:https://shannondalemaryville.org/wp-content/uploads/2024/07/LWL-Header.png
END:VEVENT
END:VCALENDAR